BEGIN:VCALENDAR
VERSION:2.0
PRODID:-//pretix//pretix.eu//
BEGIN:VTIMEZONE
TZID:Europe/Berlin
BEGIN:STANDARD
DTSTART:20001029T040000
RRULE:FREQ=YEARLY;BYDAY=-1SU;BYMONTH=10
TZNAME:CET
TZOFFSETFROM:+0200
TZOFFSETTO:+0100
END:STANDARD
BEGIN:DAYLIGHT
DTSTART:20000326T030000
RRULE:FREQ=YEARLY;BYDAY=-1SU;BYMONTH=3
TZNAME:CEST
TZOFFSETFROM:+0100
TZOFFSETTO:+0200
END:DAYLIGHT
END:VTIMEZONE
BEGIN:VEVENT
UID:pretix-aktionhorrem-veranstaltungen-4644194@aktionhorrem.vereinsticket.
 de
DTSTART;TZID=Europe/Berlin:20260905T160000
DTEND;TZID=Europe/Berlin:20260905T170000
DESCRIPTION:Tickets: https://aktionhorrem.vereinsticket.de/veranstaltungen/
 4644194/\nEinlass: 05.09.2026 14:00\nVeranstalter: Aktion Horrem
DTSTAMP:20260422T075938Z
LOCATION:Friedrich-Ebert-Platz\, Friedrich-Ebert-Platz\, 50169 Kerpen
SUMMARY:Brunnenfest 2026
END:VEVENT
END:VCALENDAR
