BEGIN:VCALENDAR
VERSION:2.0
PRODID:-//pretix//pretix.eu//
BEGIN:VTIMEZONE
TZID:Europe/Berlin
BEGIN:STANDARD
DTSTART:20001029T040000
RRULE:FREQ=YEARLY;BYDAY=-1SU;BYMONTH=10
TZNAME:CET
TZOFFSETFROM:+0200
TZOFFSETTO:+0100
END:STANDARD
BEGIN:DAYLIGHT
DTSTART:20000326T030000
RRULE:FREQ=YEARLY;BYDAY=-1SU;BYMONTH=3
TZNAME:CEST
TZOFFSETFROM:+0100
TZOFFSETTO:+0200
END:DAYLIGHT
END:VTIMEZONE
BEGIN:VEVENT
UID:pretix-aktionhorrem-veranstaltungen-4639591@aktionhorrem.vereinsticket.
 de
DTSTART;TZID=Europe/Berlin:20250907T110000
DTEND;TZID=Europe/Berlin:20250907T120000
DESCRIPTION:Tickets: https://aktionhorrem.vereinsticket.de/veranstaltungen/
 4639591/\nVeranstalter: Aktion Horrem
DTSTAMP:20260423T051223Z
LOCATION:Kettelerstraße\, Kettelerstraße\, 50169 Kerpen
SUMMARY:Trödelmarkt 2025
END:VEVENT
END:VCALENDAR
